BEGIN:VCALENDAR
VERSION:2.0
PRODID:-//Lifelong Learning Payap - ECPv6.15.20//NONSGML v1.0//EN
CALSCALE:GREGORIAN
METHOD:PUBLISH
X-ORIGINAL-URL:https://www.lllpayap.com
X-WR-CALDESC:Events for Lifelong Learning Payap
REFRESH-INTERVAL;VALUE=DURATION:PT1H
X-Robots-Tag:noindex
X-PUBLISHED-TTL:PT1H
BEGIN:VTIMEZONE
TZID:Asia/Krasnoyarsk
BEGIN:STANDARD
TZOFFSETFROM:+0700
TZOFFSETTO:+0700
TZNAME:+07
DTSTART:20230101T000000
END:STANDARD
END:VTIMEZONE
BEGIN:VEVENT
DTSTART;TZID=Asia/Krasnoyarsk:20241203T100000
DTEND;TZID=Asia/Krasnoyarsk:20241203T113000
DTSTAMP:20260423T145858
CREATED:20241029T024716Z
LAST-MODIFIED:20241206T072824Z
UID:10000311-1733220000-1733225400@www.lllpayap.com
SUMMARY:Learning\, Using\, and Retaining Kham Mueang\, the Northern Thai language
DESCRIPTION:Kham Mueang\nLearning\, Using\, and Retaining Kham Mueang\, the Northern Thai language in Chiang Mai\nThis presentation is based on what our presenter\, Dr. Michael Calavan\, has learned through interviews with 20 Chiang Mai women and men who range widely in age\, education\, and occupation. He will share with us their experiences and insights about the use of Northern Thai – or Kham Mueang – in the past\, present\, and future. From attending this class you will gain a richer understanding of the use of the local language and perhaps increase your curiosity about Lanna culture. \nDr. Calavan came to northern Thailand for the first time in 1969\, and since then has observed the solidification of central Thai as the primary language of education and official affairs. By combining his own perspective with those of his interviewees from Chiang Mai\, he will explore the complex question of Kham Mueang’s importance to Northern Thai identity. \nThe presentation and discussion will focus on the following issues: \nWhat is Northern Thai? Is it a language or dialect? How is it different from standard Thai? \nWhen\, Where\, How\, and Why is it Used? What situations are appropriate for using it? For example\, how is it used at such places as a municipal office\, a bank\, a hospital\, a fresh market or department store? How does its usage change with family members\, friends\, and neighbors\, or at school and on the playground? \nHow is it Learned and Retained [or Not Retained]? What is the role of family\, pre-school\, primary and secondary school\, university or vocational college in passing the language down? How does Thai working culture promote or diminish Kham Mueang? Are there issues of propriety and embarrassment? \nWhat is the Future of Kham Mueang and Why Does it Matter? How important is Kham Mueang to “Northern Thainess”? What impacts are TV\, computers\, and texting having on its legacy? \nAbout the Presenter: \nDr. Michael Calavan has been a participant and presenter for Lifelong Learning Payap since the program began. Aj. Michael states that he is a former bureaucrat [at USAID] and an anthropological researcher (when he has sufficient time and energy). He has been observing life in Thailand\, off and on\, since 1969. He and his wife\, Kay\, spend five months a year in Thailand\, mainly in Chiang Mai. \nCOST: 350 THB
URL:https://www.lllpayap.com/event/kham-mueang-language-northern-thailand/
LOCATION:Lifelong Learning Payap Center\, Lifelong Learning Payap Center Payap University\, Kaew Nawarat Campus\, Unnamed Road\, Wat Ket\, Mueang Chiang Mai District\, Chiang Mai 50000\, Thailand\, Chiang Mai\, Chiang Mai\, 50000\, Thailand
CATEGORIES:Training
ATTACH;FMTTYPE=image/jpeg:https://www.lllpayap.com/wp-content/uploads/2024/10/Kham-Mueng-Languange-Ad2.jpg
ORGANIZER;CN="Lifelong Learning Payap":MAILTO:lllpayap@gmail.com
END:VEVENT
BEGIN:VEVENT
DTSTART;TZID=Asia/Krasnoyarsk:20241204T100000
DTEND;TZID=Asia/Krasnoyarsk:20241204T120000
DTSTAMP:20260423T145858
CREATED:20241124T124902Z
LAST-MODIFIED:20241206T072848Z
UID:10000316-1733306400-1733313600@www.lllpayap.com
SUMMARY:Chiang Mai Photographers Meeting - Interesting Lighting
DESCRIPTION:Description:\nJoin our photography interest group\, dedicated to bringing together individuals who share a passion for photography. \nWhether you are a seasoned photographer or a beginner just starting out\, our meetings will provide an engaging and supportive environment where you can learn\, share tips and tricks\, and review each other’s work. \nThe group will explore a variety of topics related to photography\, including \n\nShow your images and get constructive feedback\nComposition and lighting techniques\nCreative inspiration and motivation through photo challenges and critiques\nWorkshops on equipment\, techniques and post processing\nImage processing and editing\nExchange equipment recommendations\, tips and insight with fellow members\n\nAll you need is a camera (any kind will do) and a desire to learn and grow as a photographer. At the meeting we will discuss picture taking around Chiang Mai and assess interests within the group to plan future meetings. \nFREE EVENT
URL:https://www.lllpayap.com/event/chiang-mai-photographers-interesting-lighting-in-photos/
LOCATION:Lifelong Learning Payap Center\, Lifelong Learning Payap Center Payap University\, Kaew Nawarat Campus\, Unnamed Road\, Wat Ket\, Mueang Chiang Mai District\, Chiang Mai 50000\, Thailand\, Chiang Mai\, Chiang Mai\, 50000\, Thailand
CATEGORIES:Training
ATTACH;FMTTYPE=image/jpeg:https://www.lllpayap.com/wp-content/uploads/2024/11/Chiang-Mai-Photographers-Interesting-Lighting.jpg
ORGANIZER;CN="Lifelong Learning Payap":MAILTO:lllpayap@gmail.com
END:VEVENT
BEGIN:VEVENT
DTSTART;TZID=Asia/Krasnoyarsk:20241207T093000
DTEND;TZID=Asia/Krasnoyarsk:20241207T123000
DTSTAMP:20260423T145858
CREATED:20241004T114834Z
LAST-MODIFIED:20241217T124646Z
UID:10000306-1733563800-1733574600@www.lllpayap.com
SUMMARY:Somatic Awareness
DESCRIPTION:Description:\nIn this immersive 3-hour workshop which includes a blend of experiential exercises\, guided meditations\, and interactive discussions\, participants will be introduced to the transformative practice of somatic awareness. They will learn to tune into their body’s wisdom and develop a deeper understanding of their body connection. As a result of participating in this workshop\, they will learn techniques to manage physical tension and promote relaxation and will gain insights into the cultural aspects of body awareness and emotional expression. \nSuitable for both newcomers and those with some experience in mindfulness practices\, this workshop caters to a diverse audience\, including expats and locals\, young and not-so-young\, men and women from all walks of life. \nPresenter:\nBella Vallejo Echavarria is an EMCC-accredited Senior Practitioner and a ESIA Supervisor who specializes in fostering communication\, resilience and creativity in multicultural settings.  Her journey began in systemic coaching where she developed expertise in helping individuals and teams adapt to new environments. She enjoys facilitating change with greater ease and awareness\, guiding clients to uncover outdated patterns and perspectives\, turning challenges into opportunities for both personal and professional growth. \nPrice: 400 THB\n 
URL:https://www.lllpayap.com/event/somatic-awareness/
LOCATION:Lifelong Learning Payap Center\, Lifelong Learning Payap Center Payap University\, Kaew Nawarat Campus\, Unnamed Road\, Wat Ket\, Mueang Chiang Mai District\, Chiang Mai 50000\, Thailand\, Chiang Mai\, Chiang Mai\, 50000\, Thailand
CATEGORIES:Training
ATTACH;FMTTYPE=image/jpeg:https://www.lllpayap.com/wp-content/uploads/2024/10/Somatic-Awareness-3-1.jpg
ORGANIZER;CN="Lifelong Learning Payap":MAILTO:lllpayap@gmail.com
END:VEVENT
BEGIN:VEVENT
DTSTART;TZID=Asia/Krasnoyarsk:20241211T100000
DTEND;TZID=Asia/Krasnoyarsk:20241211T113000
DTSTAMP:20260423T145858
CREATED:20241004T113817Z
LAST-MODIFIED:20241217T124502Z
UID:10000305-1733911200-1733916600@www.lllpayap.com
SUMMARY:Video Editing Basics
DESCRIPTION:Description:\nVideo Editing Basics will help you to make better videos using tools already available on phones\, tablets and laptops. Not that your videos aren’t good\, but you may be able to pick up some good tips from Michael Zatuchni. This presentation is geared to amateurs with all levels of experience. You will learn how to get better results with your device. You will also see how readily available Artificial Intelligence (AI) applications are changing what you thought was reality. The emphasis will be placed upon how you intend to use your images and how to develop your own signature style. This presentation will help you “up your game.” The presentation will be followed by Q&A. \nPresenter:\nFor many years\, Michael Zatuchni owned a video production company which created award-winning industrial films\, corporate presentations and broadcast commercials. He has been fortunate to be able to apply his experience in pursuit of elevating his own photos and videos from the level of “friends dreading coming over and being forced to watch” to “I want to see those photos and videos.” Mr. Zatuchni and his wife of 41 years\, Julie\, are now retired and relaxing in Chiang Mai. They have created numerous videos and photo books documenting their adventures around the world. Example of video created by Michael Zatuchni The Umbrella Center:\nhttps://www.dropbox.com/s/hlldexb1usrx4o0/Umbrella%20Center%2019Jun22HD.mov?dl= \nPrice: 350 THB\n 
URL:https://www.lllpayap.com/event/video-editing-basics/
LOCATION:Lifelong Learning Payap Center\, Lifelong Learning Payap Center Payap University\, Kaew Nawarat Campus\, Unnamed Road\, Wat Ket\, Mueang Chiang Mai District\, Chiang Mai 50000\, Thailand\, Chiang Mai\, Chiang Mai\, 50000\, Thailand
CATEGORIES:Training
ATTACH;FMTTYPE=image/jpeg:https://www.lllpayap.com/wp-content/uploads/2024/10/Video-Editing-Basics-Ad.jpg
ORGANIZER;CN="Lifelong Learning Payap":MAILTO:lllpayap@gmail.com
END:VEVENT
BEGIN:VEVENT
DTSTART;TZID=Asia/Krasnoyarsk:20241213T100000
DTEND;TZID=Asia/Krasnoyarsk:20241213T113000
DTSTAMP:20260423T145858
CREATED:20241025T025632Z
LAST-MODIFIED:20241217T124528Z
UID:10000309-1734084000-1734089400@www.lllpayap.com
SUMMARY:Explore Khun Chang Khian\, a White Hmong Village on Doi Suthep
DESCRIPTION:Description\nFor the past 35 years\, physician and anthropologist Dr. Kathie Culhane-Pera has been fortunate to spend time with the residents of Khun Chang Khian\, a White Hmong Village on Doi Suthep. Now Lifelong Learning Payap participants will have a unique opportunity to learn about the history\, customs\, culture\, and challenges of this White Hmong community from Dr. Culhane-Pera. \nThis event consists of a lecture and an excursion to the village. Participants may choose to attend only the lecture\, or both the lecture and the excursion\, as follows: \nFriday\, December 13\, 2024: Lecture by Dr. Culhane-Pera at the Lifelong Learning Payap Center\, from 10:00 a.m. to 11:30 a.m.  \nTuesday\, December 17\, 2024: Day excursion to the White Hmong village with Dr. Culhane-Pera\, from 8:30 a.m. to 3:30 p.m. \nAbout our presenter/guide:\nKathie Culhane-Pera is an American family physician with a master’s degree in anthropology. She first went to Khun Chang Khian in 1988\, when Dr. Peter Kunstadter and Dr. Leepreecha introduced her to the headman’s family. She did medical anthropology research in Thailand 1989-1992\, 1999-2000\, and 2012-2015. She co-edited a casebook about working with the Hmong in Minnesota called Healing By Heart: Clinical and Ethical Case Stories of Hmong Families and Western Providers. \nFrom our presenter/guide:\n“As a medical anthropologist\, I have been fortunate to spend time with Khun Chang Khian villagers over the past 35 years. I have watched them grow from a village with about 500 people to a village with about 1500 people. I have watched them change as they switched from subsistence farming to cash economy\, increased their education and contact with Thai society\, received a paved road and electricity\, and faced myriad health challenges. \nI have learned a lot from them\, including some aspects of White Hmong language\, traditional healing practices\, family’s medical decision making\, funerals\, New Year rituals\, hemp cloth production\, and agricultural practices. Mostly\, I have gained friendships and acquaintances with people I value and enjoy. I look forward to sharing slides with you and traveling with you\, so you can feel comfortable to join them on your own\, whether buying coffee\, staying overnight\, or sharing Hmong New Year with them.” \nSchedule for Day Excursion to Village:\n\n8:30 a.m.: Depart Lifelong Learning Payap Center by van to Wat Doi Suthep and transfer to mini-truck for remainder of the ride to the village.\n9:30 a.m.: Arrive at the Village and begin the visit led by Dr. Kathie\n12:30 p.m.: Lunch\n2:30 p.m.: Depart the village by mini truck and transfer to van near Wat Doi Suthep\n3:30 p.m.: Arrive at Lifelong Learning Payap Center by van\n\nPlease note: For the excursion\, participants may need to walk on some uneven ground through the Village. \nCOST FOR THE LECTURE ONLY: 350 THB\nCOST FOR THE LECTURE AND EXCURSION: 2\,000 THB (includes transportation to and from village by van and mini-truck\, simple lunch and drinking water in village\, contribution to village\, and faculty guide Dr. Kathie Culhane-Pera)\nPayment due for the Excursion by 10 December
URL:https://www.lllpayap.com/event/explore-khun-chang-khian-a-white-hmong-village-on-doi-suthep/
LOCATION:Lifelong Learning Payap Center\, Lifelong Learning Payap Center Payap University\, Kaew Nawarat Campus\, Unnamed Road\, Wat Ket\, Mueang Chiang Mai District\, Chiang Mai 50000\, Thailand\, Chiang Mai\, Chiang Mai\, 50000\, Thailand
CATEGORIES:Training
ATTACH;FMTTYPE=image/jpeg:https://www.lllpayap.com/wp-content/uploads/2024/10/Explore-Khun-Chang-Khian-a-White-Hmong-village-on-Doi-Suthep-Ad.jpg
ORGANIZER;CN="Lifelong Learning Payap":MAILTO:lllpayap@gmail.com
END:VEVENT
BEGIN:VEVENT
DTSTART;TZID=Asia/Krasnoyarsk:20241217T083000
DTEND;TZID=Asia/Krasnoyarsk:20241217T153000
DTSTAMP:20260423T145858
CREATED:20241025T030952Z
LAST-MODIFIED:20241217T124549Z
UID:10000310-1734424200-1734449400@www.lllpayap.com
SUMMARY:Explore Khun Chang Khian\, a White Hmong Village on Doi Suthep
DESCRIPTION:Description\nFor the past 35 years\, physician and anthropologist Dr. Kathie Culhane-Pera has been fortunate to spend time with the residents of Khun Chang Khian\, a White Hmong Village on Doi Suthep. Now Lifelong Learning Payap participants will have a unique opportunity to learn about the history\, customs\, culture\, and challenges of this White Hmong community from Dr. Culhane-Pera. \nThis event consists of a lecture and an excursion to the village. Participants may choose to attend only the lecture\, or both the lecture and the excursion\, as follows: \nFriday\, December 13\, 2024: Lecture by Dr. Culhane-Pera at the Lifelong Learning Payap Center\, from 10:00 a.m. to 11:30 a.m.  \nTuesday\, December 17\, 2024: Day excursion to the White Hmong village with Dr. Culhane-Pera\, from 8:30 a.m. to 3:30 p.m. \nAbout our presenter/guide:\nKathie Culhane-Pera is an American family physician with a master’s degree in anthropology. She first went to Khun Chang Khian in 1988\, when Dr. Peter Kunstadter and Dr. Leepreecha introduced her to the headman’s family. She did medical anthropology research in Thailand 1989-1992\, 1999-2000\, and 2012-2015. She co-edited a casebook about working with the Hmong in Minnesota called Healing By Heart: Clinical and Ethical Case Stories of Hmong Families and Western Providers. \nFrom our presenter/guide:\n“As a medical anthropologist\, I have been fortunate to spend time with Khun Chang Khian villagers over the past 35 years. I have watched them grow from a village with about 500 people to a village with about 1500 people. I have watched them change as they switched from subsistence farming to cash economy\, increased their education and contact with Thai society\, received a paved road and electricity\, and faced myriad health challenges. \nI have learned a lot from them\, including some aspects of White Hmong language\, traditional healing practices\, family’s medical decision making\, funerals\, New Year rituals\, hemp cloth production\, and agricultural practices. Mostly\, I have gained friendships and acquaintances with people I value and enjoy. I look forward to sharing slides with you and traveling with you\, so you can feel comfortable to join them on your own\, whether buying coffee\, staying overnight\, or sharing Hmong New Year with them.” \nSchedule for Day Excursion to Village:\n\n8:30 a.m.: Depart Lifelong Learning Payap Center by van to Wat Doi Suthep and transfer to mini-truck for remainder of the ride to the village.\n9:30 a.m.: Arrive at the Village and begin the visit led by Dr. Kathie\n12:30 p.m.: Lunch\n2:30 p.m.: Depart the village by mini truck and transfer to van near Wat Doi Suthep\n3:30 p.m.: Arrive at Lifelong Learning Payap Center by van\n\nPlease note: For the excursion\, participants may need to walk on some uneven ground through the Village. \nCOST FOR THE LECTURE ONLY: 350 THB\nCOST FOR THE LECTURE AND EXCURSION: 2\,000 THB (includes transportation to and from village by van and mini-truck\, simple lunch and drinking water in village\, contribution to village\, and faculty guide Dr. Kathie Culhane-Pera)\nPayment due for the Excursion by December 10\, 2024
URL:https://www.lllpayap.com/event/explore-khun-chang-khian-a-white-hmong-village-on-doi-suthep-2/
LOCATION:Lifelong Learning Payap Center\, Lifelong Learning Payap Center Payap University\, Kaew Nawarat Campus\, Unnamed Road\, Wat Ket\, Mueang Chiang Mai District\, Chiang Mai 50000\, Thailand\, Chiang Mai\, Chiang Mai\, 50000\, Thailand
CATEGORIES:Training
ATTACH;FMTTYPE=image/jpeg:https://www.lllpayap.com/wp-content/uploads/2024/10/Explore-Khun-Chang-Khian-a-White-Hmong-village-on-Doi-Suthep-Ad.jpg
ORGANIZER;CN="Lifelong Learning Payap":MAILTO:lllpayap@gmail.com
END:VEVENT
END:VCALENDAR