BEGIN:VCALENDAR
VERSION:2.0
PRODID:-//Lifelong Learning Payap - ECPv6.15.20//NONSGML v1.0//EN
CALSCALE:GREGORIAN
METHOD:PUBLISH
X-ORIGINAL-URL:https://www.lllpayap.com
X-WR-CALDESC:Events for Lifelong Learning Payap
REFRESH-INTERVAL;VALUE=DURATION:PT1H
X-Robots-Tag:noindex
X-PUBLISHED-TTL:PT1H
BEGIN:VTIMEZONE
TZID:Asia/Krasnoyarsk
BEGIN:STANDARD
TZOFFSETFROM:+0700
TZOFFSETTO:+0700
TZNAME:+07
DTSTART:20240101T000000
END:STANDARD
END:VTIMEZONE
BEGIN:VEVENT
DTSTART;TZID=Asia/Krasnoyarsk:20250703T093000
DTEND;TZID=Asia/Krasnoyarsk:20250703T113000
DTSTAMP:20260421T080116
CREATED:20250514T131437Z
LAST-MODIFIED:20250704T142955Z
UID:10000363-1751535000-1751542200@www.lllpayap.com
SUMMARY:What's What in Wat Suan Dok- with Phra KK
DESCRIPTION:What are the different parts of a Thai Buddhist temple–the areas\, buildings\, objects? How is the ordination hall used? Does every wat have a scripture library?\nJoin Lifelong Learning Payap for a specially-arranged lecture and tour on Thursday\, July 3\, led by Buddhist monk and teacher the Venerable Phra Kyo Kyo\, who teaches Buddhism in English regularly at Wat Suan Dok’s Monk Chats. Phra KK has presented Buddhism to over ten thousand people of all nationalities and backgrounds over the past ten years. \nPhra KK has generously offered to explain and answer questions about the different areas\, buildings\, and activities that make up life at any temple\, as well as those traditions\, facilities\, and functions particular to Wat Suan Dok. \nThe Venerable Phra will take us on a tour of the temple grounds. He will highlight significant objects as well as elements of Hindu and animist influences found throughout the Wat. \nThailand’s Buddhist temples\, or wats\, serve a variety of religious\, educational\, and social needs. Wats give shelter to monks and novices\, organize their interaction with the lay public\, and support the religious and cultural life of the people. Thai temples operate schools\, host community events\, run welfare programs\, and preserve ancient traditions. While most temples around the country have the same important elements in common\, each wat is unique. \nThere are over 300 temples in the city of Chiang Mai. Wat Suan Dok\, founded in 1370\, has a long history and special place in Chiang Mai’s culture and identity. It is a center for Buddhist teaching\, practice\, and public programming. At the national level\, the Wat has Royal recognition\, and houses the Chiang Mai campus of the Mahachulalongkornrajavidyalaya University. \nThis English-language presentation will be in the Monk Chat office just up (south) from the sala across from the large meditation hall under construction. \n \n \nCOST: 350 THB
URL:https://www.lllpayap.com/event/whats-what-in-wat-suan-dok-with-phra-kk/
LOCATION:MONK CHAT OFFICE
CATEGORIES:Training
ATTACH;FMTTYPE=image/png:https://www.lllpayap.com/wp-content/uploads/2025/05/Whats-What-in-Wat-Suan-Dok-2-1.png
ORGANIZER;CN="Lifelong Learning Payap":MAILTO:lllpayap@gmail.com
END:VEVENT
BEGIN:VEVENT
DTSTART;TZID=Asia/Krasnoyarsk:20250723T100000
DTEND;TZID=Asia/Krasnoyarsk:20250723T120000
DTSTAMP:20260421T080116
CREATED:20250515T233051Z
LAST-MODIFIED:20250623T110031Z
UID:10000365-1753264800-1753272000@www.lllpayap.com
SUMMARY:A Tree of My Own A Book By Nui Wilson
DESCRIPTION:Description:\nBased on Nui Wilson’s decades of volunteer work with Karen refugee families in Portland\, Oregon\, A Tree of My Own follows the journey of Posada\, a young Karen girl\, and her family from Burma to a refugee camp in Thailand\, and finally to Portland where they make their new home. \nKaren refers to a variety of peoples living in Burma and Thailand. Some live in mountains and remote rural areas\, some along the coasts and river deltas\, and others in towns and cities. Karens are diverse in language\, culture\, religious belief\, life experience\, and integration with neighboring groups.  \nKaren communities in Burma have endured decades of armed conflict\, both with the central government and between their own factions. Since the end of World War II\, millions of Karens have faced hardships of war: displacement\, hunger\, separation of families\, injury\, and and often a daily struggle to survive. These dire circumstances create both an existential threat to Karen people overall and a lifelong challenge for nearly every individual Karen person: Surviving the world while maintaining the integrity of their Karen identity. \nKaren refugees began settling in camps along the Thailand-Burma border in the early 1980s. Their numbers grew steadily over time. As the camps grew\, armed conflict inched closer to the border\, and finally spilled over. By the mid-1990s\, Karen refugee camps in Thailand were coming under attack from cross-border violence and internal strife.  \nFacing insecurity\, statelessness\, and lack of opportunity\, many Karen refugees sought to build new lives elsewhere. Some received asylum and were resettled in the west. Today\, Australia\, New Zealand\, the UK\, and the United States all have vibrant overseas Karen communities. \nNui Wilson is a Karen woman born and raised in western Thailand. She studied law and psychology at Chiang Mai University\, and moved to the United States in 2007. Seeing that many Karen refugees from Burma were coming to America\, Nui volunteered to help with their transition and resettlement. She has worked with the Karen community in Utah\, Oregon\, and Thailand for almost 20 years. \nJoin Nui for a reading from A Tree of My Own\, and a discussion on the lives and aspirations of Karen refugees. \nNui Wilson currently lives in Portland\, Oregon with her husband and two children. A Tree of My Own is her first book in a series featuring the lived experiences of Karen communities.  \nCOST: 350 THB
URL:https://www.lllpayap.com/event/a-tree-of-my-own-a-book-by-nui-wilson/
LOCATION:Lifelong Learning Payap Center\, Lifelong Learning Payap Center Payap University\, Kaew Nawarat Campus\, Unnamed Road\, Wat Ket\, Mueang Chiang Mai District\, Chiang Mai 50000\, Thailand\, Chiang Mai\, Chiang Mai\, 50000\, Thailand
CATEGORIES:Training
ATTACH;FMTTYPE=image/jpeg:https://www.lllpayap.com/wp-content/uploads/2025/06/Tree-of-My-Own-1-1.jpg
ORGANIZER;CN="Lifelong Learning Payap":MAILTO:lllpayap@gmail.com
END:VEVENT
END:VCALENDAR