BEGIN:VCALENDAR
VERSION:2.0
PRODID:-//Lifelong Learning Payap - ECPv6.15.20//NONSGML v1.0//EN
CALSCALE:GREGORIAN
METHOD:PUBLISH
X-ORIGINAL-URL:https://www.lllpayap.com
X-WR-CALDESC:Events for Lifelong Learning Payap
REFRESH-INTERVAL;VALUE=DURATION:PT1H
X-Robots-Tag:noindex
X-PUBLISHED-TTL:PT1H
BEGIN:VTIMEZONE
TZID:Asia/Krasnoyarsk
BEGIN:STANDARD
TZOFFSETFROM:+0700
TZOFFSETTO:+0700
TZNAME:+07
DTSTART:20250101T000000
END:STANDARD
END:VTIMEZONE
BEGIN:VEVENT
DTSTART;TZID=Asia/Krasnoyarsk:20260507T100000
DTEND;TZID=Asia/Krasnoyarsk:20260507T120000
DTSTAMP:20260420T185846
CREATED:20260403T113804Z
LAST-MODIFIED:20260403T113804Z
UID:10000825-1778148000-1778155200@www.lllpayap.com
SUMMARY:Chiang Mai Photographers - Water Picture
DESCRIPTION:Join our photography interest group\, dedicated to bringing together individuals who share a passion for photography.\nWhether you are a seasoned photographer or a beginner just starting out\, our meetings will provide an engaging and supportive environment where you can learn\, share tips and tricks\, and review each other’s work \nThe group will explore a variety of topics related to photography\, including \n\n\n\nShow your images and get constructive feedback\nComposition and lighting techniques\nCreative inspiration and motivation through photo challenges and critiques\nWorkshops on equipment\, techniques and post processing\nImage processing and editing\nExchange equipment recommendations\, tips and insight with fellow members\n\n\n\nAll you need is a camera (any kind will do) and a desire to learn and grow as a photographer. At the meeting we will discuss picture taking around Chiang Mai and assess interests within the group to plan future meetings. \nCOST:Free
URL:https://www.lllpayap.com/event/chiang-mai-photographers-water-picture/
LOCATION:Lifelong Learning Payap Center\, Lifelong Learning Payap Center Payap University\, Kaew Nawarat Campus\, Unnamed Road\, Wat Ket\, Mueang Chiang Mai District\, Chiang Mai 50000\, Thailand\, Chiang Mai\, Chiang Mai\, 50000\, Thailand
CATEGORIES:Training
ATTACH;FMTTYPE=image/png:https://www.lllpayap.com/wp-content/uploads/2026/04/7-May-CM-photographers.png
ORGANIZER;CN="Lifelong Learning Payap":MAILTO:lllpayap@gmail.com
END:VEVENT
BEGIN:VEVENT
DTSTART;TZID=Asia/Krasnoyarsk:20260520T130000
DTEND;TZID=Asia/Krasnoyarsk:20260520T160000
DTSTAMP:20260420T185846
CREATED:20260323T141117Z
LAST-MODIFIED:20260326T123333Z
UID:10000817-1779282000-1779292800@www.lllpayap.com
SUMMARY:From Bean to Bar
DESCRIPTION:Description:\nDo you love chocolate? Who do you know who loves chocolate? Learn how Chiang Mai based award winning Siamaya Chocolate handcrafts delicious all-natural chocolate bars using Thai cocoa beans and sugars and infuses them with Thai flavors. We’ll begin by learning about Siamaya and chocolate at Siamaya’s beautiful factory located at Weave Artisan Society. We will learn the details of chocolate making from the beans to the final bar. We’ll taste uniquely flavored chocolate bars such as Thai Coconut Curry\, Durian and Hill Coffee & Pomelo. Finally\, we get to pull it all together by making our own bars filled with delicious and distinctive Thai fruits\, nuts and spices! Join us for this unique learning experience! Space is limited\, so register now! \n  \nCOST : 850 THB
URL:https://www.lllpayap.com/event/from-bean-to-bar/
LOCATION:WEAVE Artisan Society\, 12/8 Wua Lai Rd Soi 3\, Tambon Hai Ya\, Mueang Chiang Mai District\, Chiang Mai\, Chiang Mai\, 50100\, Thailand
CATEGORIES:Training
ATTACH;FMTTYPE=image/jpeg:https://www.lllpayap.com/wp-content/uploads/2026/03/Ad-From-Bean-to-Bar.jpg
ORGANIZER;CN="Lifelong Learning Payap":MAILTO:lllpayap@gmail.com
END:VEVENT
BEGIN:VEVENT
DTSTART;TZID=Asia/Krasnoyarsk:20260527T100000
DTEND;TZID=Asia/Krasnoyarsk:20260527T113000
DTSTAMP:20260420T185846
CREATED:20260326T124156Z
LAST-MODIFIED:20260326T124156Z
UID:10000824-1779876000-1779881400@www.lllpayap.com
SUMMARY:Museums in Chiang Mai: Their Role in the Preservation and Communication of Natural and Cultural Heritage
DESCRIPTION:Description:\nOver 100 museums in Chiang Mai preserve and communicate natural and cultural heritage in Northern Thailand. This presentation focuses upon the history of their development and support by ommunities\, temples and government administration. Discover historic buildings\, archaeological sites\, natural documentation and conservation\, temple\, art and ethnographic collections\, including smaller niche museums and those created by universities and government agencies. The presentation will also introduce a national museum database\, offering enrichment to travel in Thailand Rebecca Weldon\, who has a background in anthropology and the philosophy of museums\, has lived most of her life in this region\, working with and advising museums in both Chiang Mai and Chiang Rai This talk is the first of our museum series\, and beginning in June\, Rebecca Weldon will lead monthly museum excursions. Registration required at www.lllpayap.com \nPresenter: Rebecca Weldon\nRaised in Laos and living in Northern Thailand\, speaking local languages\, the meaning given by communities to their natural and cultural heritage has inspired her to promote local commitment to the preservation of knowledge\, creativity and inspiration for future develoment. \nCOST : 350 THB
URL:https://www.lllpayap.com/event/museums-in-chiang-mai-their-role-in-the-preservation-and-communication-of-natural-and-cultural-heritage/
LOCATION:Lifelong Learning Payap Center\, Lifelong Learning Payap Center Payap University\, Kaew Nawarat Campus\, Unnamed Road\, Wat Ket\, Mueang Chiang Mai District\, Chiang Mai 50000\, Thailand\, Chiang Mai\, Chiang Mai\, 50000\, Thailand
CATEGORIES:Training
ATTACH;FMTTYPE=image/png:https://www.lllpayap.com/wp-content/uploads/2026/03/Ad-Museums-in-Chiang-Mai.png
ORGANIZER;CN="Lifelong Learning Payap":MAILTO:lllpayap@gmail.com
END:VEVENT
BEGIN:VEVENT
DTSTART;TZID=Asia/Krasnoyarsk:20260528T100000
DTEND;TZID=Asia/Krasnoyarsk:20260528T120000
DTSTAMP:20260420T185846
CREATED:20260318T125220Z
LAST-MODIFIED:20260320T165936Z
UID:10000816-1779962400-1779969600@www.lllpayap.com
SUMMARY:From Snapshot to Masterpiece: The Art of Photography with Any Camera
DESCRIPTION:Description:\nLearn to create memorable photographs with any camera including a phone instead of taking snapshots. Realize that a camera is just a tool to craft an image. We will cover picture taking techniques including composition and lighting. The factors in each composition technique will be reinforced through discussion of example images. Example subjects will include city streets\, markets\, landmarks\, landscapes\, festivals\, flora\, architecture\, sunrises/sunsets and after dark. We will also explore several AI options that can help enhance your photographs. \nPresenter: Doug Mann\nDoug Mann (a.k.a. PhotoMann) has been a part-time freelance travel photographer for 35 years while he was pursuing a full time engineering career. His travels have taken him to 60 countries\nand he’s now settled in Chiang Mai. PhotoMann was an early adopter of the WWW with the creation of his first photography web site in 1994. Time Magazine International (July 1\, 1996)named The Adventures of PhotoMann web site as a top recommended site to discover fascinating places to visit in Asia. His images have appeared in various publications over the years. Some of his images can be found at www.photomann.com and www.facebook.com/PhotoMannTravelPhotography.  \n  \nCOST : 350 THB
URL:https://www.lllpayap.com/event/from-snapshot-to-masterpiece-the-art-of-photography-with-any-camera/
LOCATION:Lifelong Learning Payap Center\, Lifelong Learning Payap Center Payap University\, Kaew Nawarat Campus\, Unnamed Road\, Wat Ket\, Mueang Chiang Mai District\, Chiang Mai 50000\, Thailand\, Chiang Mai\, Chiang Mai\, 50000\, Thailand
CATEGORIES:Training
ATTACH;FMTTYPE=image/jpeg:https://www.lllpayap.com/wp-content/uploads/2026/03/28-May-Snap.jpg
ORGANIZER;CN="Lifelong Learning Payap":MAILTO:lllpayap@gmail.com
END:VEVENT
END:VCALENDAR