BEGIN:VCALENDAR
VERSION:2.0
PRODID:-//Lifelong Learning Payap - ECPv6.15.20//NONSGML v1.0//EN
CALSCALE:GREGORIAN
METHOD:PUBLISH
X-ORIGINAL-URL:https://www.lllpayap.com
X-WR-CALDESC:Events for Lifelong Learning Payap
REFRESH-INTERVAL;VALUE=DURATION:PT1H
X-Robots-Tag:noindex
X-PUBLISHED-TTL:PT1H
BEGIN:VTIMEZONE
TZID:Asia/Krasnoyarsk
BEGIN:STANDARD
TZOFFSETFROM:+0700
TZOFFSETTO:+0700
TZNAME:+07
DTSTART:20250101T000000
END:STANDARD
END:VTIMEZONE
BEGIN:VEVENT
DTSTART;TZID=Asia/Krasnoyarsk:20260520T130000
DTEND;TZID=Asia/Krasnoyarsk:20260520T160000
DTSTAMP:20260420T203954
CREATED:20260323T141117Z
LAST-MODIFIED:20260326T123333Z
UID:10000817-1779282000-1779292800@www.lllpayap.com
SUMMARY:From Bean to Bar
DESCRIPTION:Description:\nDo you love chocolate? Who do you know who loves chocolate? Learn how Chiang Mai based award winning Siamaya Chocolate handcrafts delicious all-natural chocolate bars using Thai cocoa beans and sugars and infuses them with Thai flavors. We’ll begin by learning about Siamaya and chocolate at Siamaya’s beautiful factory located at Weave Artisan Society. We will learn the details of chocolate making from the beans to the final bar. We’ll taste uniquely flavored chocolate bars such as Thai Coconut Curry\, Durian and Hill Coffee & Pomelo. Finally\, we get to pull it all together by making our own bars filled with delicious and distinctive Thai fruits\, nuts and spices! Join us for this unique learning experience! Space is limited\, so register now! \n  \nCOST : 850 THB
URL:https://www.lllpayap.com/event/from-bean-to-bar/
LOCATION:WEAVE Artisan Society\, 12/8 Wua Lai Rd Soi 3\, Tambon Hai Ya\, Mueang Chiang Mai District\, Chiang Mai\, Chiang Mai\, 50100\, Thailand
CATEGORIES:Training
ATTACH;FMTTYPE=image/jpeg:https://www.lllpayap.com/wp-content/uploads/2026/03/Ad-From-Bean-to-Bar.jpg
ORGANIZER;CN="Lifelong Learning Payap":MAILTO:lllpayap@gmail.com
END:VEVENT
END:VCALENDAR