BEGIN:VCALENDAR
VERSION:2.0
PRODID:-//Lifelong Learning Payap - ECPv6.15.20//NONSGML v1.0//EN
CALSCALE:GREGORIAN
METHOD:PUBLISH
X-WR-CALNAME:Lifelong Learning Payap
X-ORIGINAL-URL:https://www.lllpayap.com
X-WR-CALDESC:Events for Lifelong Learning Payap
REFRESH-INTERVAL;VALUE=DURATION:PT1H
X-Robots-Tag:noindex
X-PUBLISHED-TTL:PT1H
BEGIN:VTIMEZONE
TZID:Asia/Krasnoyarsk
BEGIN:STANDARD
TZOFFSETFROM:+0700
TZOFFSETTO:+0700
TZNAME:+07
DTSTART:20230101T000000
END:STANDARD
END:VTIMEZONE
BEGIN:VEVENT
DTSTART;TZID=Asia/Krasnoyarsk:20240307T130000
DTEND;TZID=Asia/Krasnoyarsk:20240307T150000
DTSTAMP:20260422T223016
CREATED:20240414T195339Z
LAST-MODIFIED:20240414T195339Z
UID:10000220-1709816400-1709823600@www.lllpayap.com
SUMMARY:Chiang Mai Creative Writing Group
DESCRIPTION:Description: \nCalling all writers! \nJoin us for a writer’s meetup at Lifelong Learning Payap Center. This is a chance for writers of all levels to come together\, share their work\, and get feedback from each other. Please print copies of the work you would like feedback on for the group. The piece should be no longer than 2\,500 words. The number of copies you should bring should be equal to the RSVPs for each session. Each piece can be read aloud to the group. Then\, we get into discussion and feedback of the presented piece. This is a great opportunity to connect with other writers\, get feedback on your work\, and learn from each other. No experience is necessary. All writers are welcome! \nWhat to expect: \n\nA relaxed and informal atmosphere where writers can feel comfortable sharing their work\nA supportive community of writers who are eager to give and receive feedback\nAn opportunity to learn from other writers and improve your own writing skills\n\nWhat to bring: \n\nCopies of a piece of writing that you would like to share with the group. All copies will be returned to the writer after discussion/critique.\nA notebook and pen to take notes\nA willingness to give and receive feedback\n\n\nDownload Flyer here:
URL:https://www.lllpayap.com/event/chiang-mai-creative-writing-group-5/
LOCATION:Lifelong Learning Payap Center\, Lifelong Learning Payap Center Payap University\, Kaew Nawarat Campus\, Unnamed Road\, Wat Ket\, Mueang Chiang Mai District\, Chiang Mai 50000\, Thailand\, Chiang Mai\, Chiang Mai\, 50000\, Thailand
CATEGORIES:Upcoming
ATTACH;FMTTYPE=image/jpeg:https://www.lllpayap.com/wp-content/uploads/2024/02/Creative-Writing-Group-Feb-Mar-2024-Ad.jpg
ORGANIZER;CN="Lifelong Learning Payap":MAILTO:lllpayap@gmail.com
END:VEVENT
BEGIN:VEVENT
DTSTART;TZID=Asia/Krasnoyarsk:20240321T130000
DTEND;TZID=Asia/Krasnoyarsk:20240321T150000
DTSTAMP:20260422T223016
CREATED:20240414T195340Z
LAST-MODIFIED:20240414T195340Z
UID:10000222-1711026000-1711033200@www.lllpayap.com
SUMMARY:Chiang Mai Creative Writing Group
DESCRIPTION:Description: \nCalling all writers! \nJoin us for a writer’s meetup at Lifelong Learning Payap Center. This is a chance for writers of all levels to come together\, share their work\, and get feedback from each other. Please print copies of the work you would like feedback on for the group. The piece should be no longer than 2\,500 words. The number of copies you should bring should be equal to the RSVPs for each session. Each piece can be read aloud to the group. Then\, we get into discussion and feedback of the presented piece. This is a great opportunity to connect with other writers\, get feedback on your work\, and learn from each other. No experience is necessary. All writers are welcome! \nWhat to expect: \n\nA relaxed and informal atmosphere where writers can feel comfortable sharing their work\nA supportive community of writers who are eager to give and receive feedback\nAn opportunity to learn from other writers and improve your own writing skills\n\nWhat to bring: \n\nCopies of a piece of writing that you would like to share with the group. All copies will be returned to the writer after discussion/critique.\nA notebook and pen to take notes\nA willingness to give and receive feedback\n\n\nDownload Flyer here:
URL:https://www.lllpayap.com/event/chiang-mai-creative-writing-group-7/
LOCATION:Lifelong Learning Payap Center\, Lifelong Learning Payap Center Payap University\, Kaew Nawarat Campus\, Unnamed Road\, Wat Ket\, Mueang Chiang Mai District\, Chiang Mai 50000\, Thailand\, Chiang Mai\, Chiang Mai\, 50000\, Thailand
CATEGORIES:Upcoming
ATTACH;FMTTYPE=image/jpeg:https://www.lllpayap.com/wp-content/uploads/2024/02/Creative-Writing-Group-Feb-Mar-2024-Ad.jpg
ORGANIZER;CN="Lifelong Learning Payap":MAILTO:lllpayap@gmail.com
END:VEVENT
BEGIN:VEVENT
DTSTART;TZID=Asia/Krasnoyarsk:20240328T130000
DTEND;TZID=Asia/Krasnoyarsk:20240328T150000
DTSTAMP:20260422T223016
CREATED:20240414T195340Z
LAST-MODIFIED:20240414T195340Z
UID:10000223-1711630800-1711638000@www.lllpayap.com
SUMMARY:Chiang Mai Creative Writing Group
DESCRIPTION:Description: \nCalling all writers! \nJoin us for a writer’s meetup at Lifelong Learning Payap Center. This is a chance for writers of all levels to come together\, share their work\, and get feedback from each other. Please print copies of the work you would like feedback on for the group. The piece should be no longer than 2\,500 words. The number of copies you should bring should be equal to the RSVPs for each session. Each piece can be read aloud to the group. Then\, we get into discussion and feedback of the presented piece. This is a great opportunity to connect with other writers\, get feedback on your work\, and learn from each other. No experience is necessary. All writers are welcome! \n What to expect: \n\nA relaxed and informal atmosphere where writers can feel comfortable sharing their work\nA supportive community of writers who are eager to give and receive feedback\nAn opportunity to learn from other writers and improve your own writing skills\n\nWhat to bring: \n\nCopies of a piece of writing that you would like to share with the group. All copies will be returned to the writer after discussion/critique.\nA notebook and pen to take notes\nA willingness to give and receive feedback\n\n\nDownload Flyer here:
URL:https://www.lllpayap.com/event/chiang-mai-creative-writing-group-8/
LOCATION:Lifelong Learning Payap Center\, Lifelong Learning Payap Center Payap University\, Kaew Nawarat Campus\, Unnamed Road\, Wat Ket\, Mueang Chiang Mai District\, Chiang Mai 50000\, Thailand\, Chiang Mai\, Chiang Mai\, 50000\, Thailand
CATEGORIES:Upcoming
ATTACH;FMTTYPE=image/jpeg:https://www.lllpayap.com/wp-content/uploads/2024/03/Creative-Writing-Group-Ad-Mar-Apr-2024.jpg
ORGANIZER;CN="Lifelong Learning Payap":MAILTO:lllpayap@gmail.com
END:VEVENT
END:VCALENDAR