BEGIN:VCALENDAR
VERSION:2.0
PRODID:-//Lifelong Learning Payap - ECPv6.15.20//NONSGML v1.0//EN
CALSCALE:GREGORIAN
METHOD:PUBLISH
X-WR-CALNAME:Lifelong Learning Payap
X-ORIGINAL-URL:https://www.lllpayap.com
X-WR-CALDESC:Events for Lifelong Learning Payap
REFRESH-INTERVAL;VALUE=DURATION:PT1H
X-Robots-Tag:noindex
X-PUBLISHED-TTL:PT1H
BEGIN:VTIMEZONE
TZID:Asia/Krasnoyarsk
BEGIN:STANDARD
TZOFFSETFROM:+0700
TZOFFSETTO:+0700
TZNAME:+07
DTSTART:20240101T000000
END:STANDARD
END:VTIMEZONE
BEGIN:VEVENT
DTSTART;TZID=Asia/Krasnoyarsk:20250703T100000
DTEND;TZID=Asia/Krasnoyarsk:20250703T120000
DTSTAMP:20260421T225518
CREATED:20250508T141301Z
LAST-MODIFIED:20250704T142957Z
UID:10000359-1751536800-1751544000@www.lllpayap.com
SUMMARY:Basic Watercolor Techniques by Richie Cheung
DESCRIPTION:Dates:Thursdays\, June 19\, 26 and July 3\, 17\, 2025\nTime: 10:00 am – 12:00 pm\nCost: 1\,800THB plus materials for four sessions\n  \nDescription\nThis watercolor course is appropriate for beginner or intermediate students who have had little experience with watercolor painting.  \nLearn watercolor basics and wet-on-wet technique for soft\, natural effects. Attendants will try out different watercolor effects and will be challenged with a monotone watercolor piece\, using techniques learned.  \nAttendants will then be introduced to try rocks and tree trunks using wet on dry techniques. Master wet-on-dry for crisp\, defined shapes like rocks\, tree trunks.  \nStudents will try brush control and textures with studies of vegetables and fruits. Attendants will be challenged to paint live objects\, concentrating on the textures\, shapes and shadows of the object.  \nAnd\, they will learn color mixing and light/shadow\, perspective and human figures. There will be an option to continue with more advanced watercolor techniques for an additional four weeks. \nMaterials Needed\n\nWatercolor paper 8K/4K A4/A3 (cold press\, 300 gram)\nWatercolor paints (student- or artist-grade pan/tube set)\nBrushes (round sizes 2\, 6\, 12; flat brush optional)\nPalette\, water container\, paper towels\, pencil\, eraser\nMasking tape/board for securing paper\nOptional: Masking fluid for highlight\n\nPresenter: Richie Cheung\nRichie Cheung has been teaching art for over 12 years in art studios\, NGOs\, universities and has held private art lessons. He was also commissioned in mural paintings and portrait painting works\, and had held workshops for private companies and institutes.\nRichie can instruct in English and Chinese. \nCOST:1\,800THB plus materials for four sessions
URL:https://www.lllpayap.com/event/basic-watercolor-techniques-3/
LOCATION:Lifelong Learning Payap Center\, Lifelong Learning Payap Center Payap University\, Kaew Nawarat Campus\, Unnamed Road\, Wat Ket\, Mueang Chiang Mai District\, Chiang Mai 50000\, Thailand\, Chiang Mai\, Chiang Mai\, 50000\, Thailand
CATEGORIES:Upcoming
ATTACH;FMTTYPE=image/jpeg:https://www.lllpayap.com/wp-content/uploads/2025/05/Basic-Watercolor-Techniques-2-1.jpg
ORGANIZER;CN="Lifelong Learning Payap":MAILTO:lllpayap@gmail.com
END:VEVENT
BEGIN:VEVENT
DTSTART;TZID=Asia/Krasnoyarsk:20250729T100000
DTEND;TZID=Asia/Krasnoyarsk:20250729T113000
DTSTAMP:20260421T225518
CREATED:20250507T165950Z
LAST-MODIFIED:20250729T114030Z
UID:10000356-1753783200-1753788600@www.lllpayap.com
SUMMARY:Yoga : Mindfulness Movements\, Breathing and Relaxation By Kru Teaw
DESCRIPTION:Dates: 1\, 8\, 15\, 22\, 29 July 2025\nTime: 10:00 am – 11:30 am\nCost: 1\,300 THB for five sessions\n  \nDescription\nYoga can help you learn to move with awareness and find balance physically and mentally. In this introductory course\, participants will learn practical yoga movements that can be done on a daily basis to improve flexibility\, strength and mindfulness. In addition\, participants will experience total relaxation with Tibetan Singing Bowl or Crystal Bowl Sound Bath. \nDhitigaan Bpiyasereep (Kru Taew) is an experienced yoga teacher who specializes in yin and therapeutic yoga and focuses on mature bodies.\n“Yoga is not a one-size-fits-all kind of thing and it is important to well understand the level and needs of the class participants and to adapt a training program using several yoga disciplines to best suit the needs of the students. I also incorporate simple positions and poses that can be practiced at home for the benefit of the trainee.” \nBring: a yoga matt\, a small towel and water. Please note that chairs will be available for those who wish to use them instead of a matt. \n  \nCOST: 1\,300 THB for five sessions
URL:https://www.lllpayap.com/event/yoga-5/
LOCATION:Lifelong Learning Payap Center\, Lifelong Learning Payap Center Payap University\, Kaew Nawarat Campus\, Unnamed Road\, Wat Ket\, Mueang Chiang Mai District\, Chiang Mai 50000\, Thailand\, Chiang Mai\, Chiang Mai\, 50000\, Thailand
CATEGORIES:Upcoming
ATTACH;FMTTYPE=image/jpeg:https://www.lllpayap.com/wp-content/uploads/2025/05/Yoga-3.jpg
ORGANIZER;CN="Lifelong Learning Payap":MAILTO:lllpayap@gmail.com
END:VEVENT
END:VCALENDAR