BEGIN:VCALENDAR
VERSION:2.0
PRODID:-//Lifelong Learning Payap - ECPv6.15.20//NONSGML v1.0//EN
CALSCALE:GREGORIAN
METHOD:PUBLISH
X-ORIGINAL-URL:https://www.lllpayap.com
X-WR-CALDESC:Events for Lifelong Learning Payap
REFRESH-INTERVAL;VALUE=DURATION:PT1H
X-Robots-Tag:noindex
X-PUBLISHED-TTL:PT1H
BEGIN:VTIMEZONE
TZID:Asia/Krasnoyarsk
BEGIN:STANDARD
TZOFFSETFROM:+0700
TZOFFSETTO:+0700
TZNAME:+07
DTSTART:20240101T000000
END:STANDARD
END:VTIMEZONE
BEGIN:VEVENT
DTSTART;TZID=Asia/Krasnoyarsk:20250828T133000
DTEND;TZID=Asia/Krasnoyarsk:20250828T153000
DTSTAMP:20260421T212011
CREATED:20250618T183848Z
LAST-MODIFIED:20250830T231848Z
UID:10000393-1756387800-1756395000@www.lllpayap.com
SUMMARY:Basic Watercolor Techniques by Richie Cheung
DESCRIPTION:Dates:Thursdays\,24\, 31 July and 7\, 28\,August 2025\nTime: 10:00 am – 12:00 pm\nCost: 1\,800THB plus materials for four sessions\n  \nDescription\nThis watercolor course is appropriate for beginner or intermediate students who have had little experience with watercolor painting. \nLearn watercolor basics and wet-on-wet technique for soft\, natural effects. Attendants will try out different watercolor effects and will be challenged with a monotone watercolor piece\, using techniques learned. \nAttendants will then be introduced to try rocks and tree trunks using wet on dry techniques. Master wet-on-dry for crisp\, defined shapes like rocks\, tree trunks. \nStudents will try brush control and textures with studies of vegetables and fruits. Attendants will be challenged to paint live objects\, concentrating on the textures\, shapes and shadows of the object. \nAnd\, they will learn color mixing and light/shadow\, perspective and human figures. There will be an option to continue with more advanced watercolor techniques for an additional four weeks. \nMaterials Needed\n\nWatercolor paper 8K/4K A4/A3 (cold press\, 300 gram)\nWatercolor paints (student- or artist-grade pan/tube set)\nBrushes (round sizes 2\, 6\, 12; flat brush optional)\nPalette\, water container\, paper towels\, pencil\, eraser\nMasking tape/board for securing paper\nOptional: Masking fluid for highlight\n\nPresenter: Richie Cheung\nRichie Cheung has been teaching art for over 12 years in art studios\, NGOs\, universities and has held private art lessons. He was also commissioned in mural paintings and portrait painting works\, and had held workshops for private companies and institutes.\nRichie can instruct in English and Chinese. \nCOST:1\,800THB plus materials for four sessions
URL:https://www.lllpayap.com/event/basic-watercolor-techniques-3-2-2-2-2/
LOCATION:Lifelong Learning Payap Center\, Lifelong Learning Payap Center Payap University\, Kaew Nawarat Campus\, Unnamed Road\, Wat Ket\, Mueang Chiang Mai District\, Chiang Mai 50000\, Thailand\, Chiang Mai\, Chiang Mai\, 50000\, Thailand
CATEGORIES:Upcoming
ATTACH;FMTTYPE=image/jpeg:https://www.lllpayap.com/wp-content/uploads/2025/06/Basic-Watercolor-Techniques-7.jpg
ORGANIZER;CN="Lifelong Learning Payap":MAILTO:lllpayap@gmail.com
END:VEVENT
END:VCALENDAR